BEGIN:VCALENDAR
VERSION:2.0
PRODID:-//WRK Group - ECPv6.15.20//NONSGML v1.0//EN
CALSCALE:GREGORIAN
METHOD:PUBLISH
X-WR-CALNAME:WRK Group
X-ORIGINAL-URL:https://wrkgroup.org
X-WR-CALDESC:Events for WRK Group
REFRESH-INTERVAL;VALUE=DURATION:PT1H
X-Robots-Tag:noindex
X-PUBLISHED-TTL:PT1H
BEGIN:VTIMEZONE
TZID:America/New_York
BEGIN:DAYLIGHT
TZOFFSETFROM:-0500
TZOFFSETTO:-0400
TZNAME:EDT
DTSTART:20240310T070000
END:DAYLIGHT
BEGIN:STANDARD
TZOFFSETFROM:-0400
TZOFFSETTO:-0500
TZNAME:EST
DTSTART:20241103T060000
END:STANDARD
BEGIN:DAYLIGHT
TZOFFSETFROM:-0500
TZOFFSETTO:-0400
TZNAME:EDT
DTSTART:20250309T070000
END:DAYLIGHT
BEGIN:STANDARD
TZOFFSETFROM:-0400
TZOFFSETTO:-0500
TZNAME:EST
DTSTART:20251102T060000
END:STANDARD
BEGIN:DAYLIGHT
TZOFFSETFROM:-0500
TZOFFSETTO:-0400
TZNAME:EDT
DTSTART:20260308T070000
END:DAYLIGHT
BEGIN:STANDARD
TZOFFSETFROM:-0400
TZOFFSETTO:-0500
TZNAME:EST
DTSTART:20261101T060000
END:STANDARD
END:VTIMEZONE
BEGIN:VEVENT
DTSTART;TZID=America/New_York:20251115T110000
DTEND;TZID=America/New_York:20251115T140000
DTSTAMP:20260419T183433
CREATED:20250103T155601Z
LAST-MODIFIED:20251006T175640Z
UID:4651-1763204400-1763215200@wrkgroup.org
SUMMARY:Community Bingo Luncheon
DESCRIPTION:
URL:https://wrkgroup.org/event/community-bingo-luncheon-3/
LOCATION:Kingswood Community Center\, 2300 Bowers Street\, Wilmington\, DE\, 19802\, United States
CATEGORIES:Kingswood Community Center
END:VEVENT
BEGIN:VEVENT
DTSTART;TZID=America/New_York:20251118T173000
DTEND;TZID=America/New_York:20251118T190000
DTSTAMP:20260419T183433
CREATED:20250103T155657Z
LAST-MODIFIED:20250729T195433Z
UID:4653-1763487000-1763492400@wrkgroup.org
SUMMARY:Parent Council Meeting
DESCRIPTION:Parent Council Meeting at Kingswood Community Center is open to past\, current\, and perspective ELA parents!
URL:https://wrkgroup.org/event/parent-council-meeting-10/
LOCATION:Kingswood Community Center\, 2300 Bowers Street\, Wilmington\, DE\, 19802\, United States
CATEGORIES:Early Learning Academy
END:VEVENT
BEGIN:VEVENT
DTSTART;TZID=America/New_York:20251119T173000
DTEND;TZID=America/New_York:20251119T190000
DTSTAMP:20260419T183433
CREATED:20251106T193720Z
LAST-MODIFIED:20251106T200932Z
UID:6565-1763573400-1763578800@wrkgroup.org
SUMMARY:Right to Know Workshop
DESCRIPTION:Join us for an engaging evening focused on legal education and empowerment. Partners from Community Legal Aid Society\, Inc. (CLASI) and Delaware Volunteer Legal Services (DVLS) will share how to access free and affordable legal resources available to our community. \nWe’ll also welcome representatives from the Delaware Law Related Education Center (DELREC)\, who will lead an interactive discussion about constitutional rights and how they apply to our everyday lives. \nEnjoy dinner\, conversation\, and connection as we come together to learn\, share\, and build stronger community awareness around legal rights and access to justice. \n\n\n\n\n\n\nHighlights: \n\nPresentations from CLASI\, DVLS\, and DELREC\nPractical guidance on using local legal services\nCommunity Q&A session\nDinner provided\n\nRSVP for a night of community\, fun\, and learning! \n\nContact Delaney Duricek for questions or concerns: 302-764-9022 EXT. 303
URL:https://wrkgroup.org/event/right-to-know-workshop/
LOCATION:Kingswood Community Center\, 2300 Bowers Street\, Wilmington\, DE\, 19802\, United States
CATEGORIES:Kingswood Community Center
END:VEVENT
END:VCALENDAR