BEGIN:VCALENDAR
VERSION:2.0
PRODID:-//WRK Group - ECPv6.15.20//NONSGML v1.0//EN
CALSCALE:GREGORIAN
METHOD:PUBLISH
X-ORIGINAL-URL:https://wrkgroup.org
X-WR-CALDESC:Events for WRK Group
REFRESH-INTERVAL;VALUE=DURATION:PT1H
X-Robots-Tag:noindex
X-PUBLISHED-TTL:PT1H
BEGIN:VTIMEZONE
TZID:America/New_York
BEGIN:DAYLIGHT
TZOFFSETFROM:-0500
TZOFFSETTO:-0400
TZNAME:EDT
DTSTART:20250309T070000
END:DAYLIGHT
BEGIN:STANDARD
TZOFFSETFROM:-0400
TZOFFSETTO:-0500
TZNAME:EST
DTSTART:20251102T060000
END:STANDARD
BEGIN:DAYLIGHT
TZOFFSETFROM:-0500
TZOFFSETTO:-0400
TZNAME:EDT
DTSTART:20260308T070000
END:DAYLIGHT
BEGIN:STANDARD
TZOFFSETFROM:-0400
TZOFFSETTO:-0500
TZNAME:EST
DTSTART:20261101T060000
END:STANDARD
BEGIN:DAYLIGHT
TZOFFSETFROM:-0500
TZOFFSETTO:-0400
TZNAME:EDT
DTSTART:20270314T070000
END:DAYLIGHT
BEGIN:STANDARD
TZOFFSETFROM:-0400
TZOFFSETTO:-0500
TZNAME:EST
DTSTART:20271107T060000
END:STANDARD
END:VTIMEZONE
BEGIN:VEVENT
DTSTART;TZID=America/New_York:20260311T170000
DTEND;TZID=America/New_York:20260311T190000
DTSTAMP:20260419T124646
CREATED:20260128T225032Z
LAST-MODIFIED:20260224T192834Z
UID:6594-1773248400-1773255600@wrkgroup.org
SUMMARY:EMPOWER Your Wallet – Kingswood Community Center Financial Workshop
DESCRIPTION:Join us for an engaging and interactive Financial Literacy Workshop designed to help you take control of your money and build a stronger financial future. Hosted by EMPOWER at Kingswood Community Center\, this real-world session will cover essential topics such as: \n\nBanking Today – Understanding modern banking options\nHow to financially plan in this time – Step-by-step guidance\nBalancing Your Finances – Practical budgeting strategies\n\nBut that’s not all! From the moment you arrive\, you’ll participate in a fun\, hands-on money game where you’ll receive a realistic amount of play money and face real-life financial scenarios. Make smart decisions\, save wisely\, and compete for gift card prizes awarded during and at the end of the workshop for the best budgeting skills. \nDon’t miss this chance to learn\, play\, and win while building financial confidence. Sign up now!
URL:https://wrkgroup.org/event/empower-your-wallet/
LOCATION:Kingswood Community Center\, 2300 Bowers Street\, Wilmington\, DE\, 19802\, United States
CATEGORIES:EMPOWER,Kingswood Community Center
END:VEVENT
BEGIN:VEVENT
DTSTART;TZID=America/New_York:20260327T110000
DTEND;TZID=America/New_York:20260327T140000
DTSTAMP:20260419T124646
CREATED:20260224T145828Z
LAST-MODIFIED:20260224T145828Z
UID:6611-1774609200-1774620000@wrkgroup.org
SUMMARY:COMMUNITY BINGO & LUNCHEON
DESCRIPTION:Join us for an exciting afternoon of Bingo! Doors open at 10:30 AM\, with games running from 11 AM to 2 PM. Lunch is included with your $15 entry fee\, and you’ll have the chance to win prizes. Bring a friend and make it a fun outing! On-site parking is available. Participants must be 18+ and pay in advance by 5 PM on Friday\, March 13th. Payments accepted via check\, money order\, or credit/debit card (in person or by phone). Checks and money orders should be made out to Kingswood Community Center. Call 302-764-9022 for more information.
URL:https://wrkgroup.org/event/community-bingo-luncheon/
LOCATION:Kingswood Community Center\, 2300 Bowers Street\, Wilmington\, DE\, 19802\, United States
CATEGORIES:Jimmy Jenkins Senior Center,Kingswood Community Center
END:VEVENT
END:VCALENDAR