BEGIN:VCALENDAR
VERSION:2.0
PRODID:-//WRK Group - ECPv6.15.20//NONSGML v1.0//EN
CALSCALE:GREGORIAN
METHOD:PUBLISH
X-ORIGINAL-URL:https://wrkgroup.org
X-WR-CALDESC:Events for WRK Group
REFRESH-INTERVAL;VALUE=DURATION:PT1H
X-Robots-Tag:noindex
X-PUBLISHED-TTL:PT1H
BEGIN:VTIMEZONE
TZID:America/New_York
BEGIN:DAYLIGHT
TZOFFSETFROM:-0500
TZOFFSETTO:-0400
TZNAME:EDT
DTSTART:20250309T070000
END:DAYLIGHT
BEGIN:STANDARD
TZOFFSETFROM:-0400
TZOFFSETTO:-0500
TZNAME:EST
DTSTART:20251102T060000
END:STANDARD
BEGIN:DAYLIGHT
TZOFFSETFROM:-0500
TZOFFSETTO:-0400
TZNAME:EDT
DTSTART:20260308T070000
END:DAYLIGHT
BEGIN:STANDARD
TZOFFSETFROM:-0400
TZOFFSETTO:-0500
TZNAME:EST
DTSTART:20261101T060000
END:STANDARD
BEGIN:DAYLIGHT
TZOFFSETFROM:-0500
TZOFFSETTO:-0400
TZNAME:EDT
DTSTART:20270314T070000
END:DAYLIGHT
BEGIN:STANDARD
TZOFFSETFROM:-0400
TZOFFSETTO:-0500
TZNAME:EST
DTSTART:20271107T060000
END:STANDARD
END:VTIMEZONE
BEGIN:VEVENT
DTSTART;TZID=America/New_York:20260415T100000
DTEND;TZID=America/New_York:20260415T110000
DTSTAMP:20260419T125130
CREATED:20260331T175557Z
LAST-MODIFIED:20260331T183408Z
UID:6690-1776247200-1776250800@wrkgroup.org
SUMMARY:Mobility Training Class
DESCRIPTION:
URL:https://wrkgroup.org/event/mobility-training-class-5/
LOCATION:The Warehouse\, 1121 Thatcher Street\, Wilmington\, DE\, 19802\, United States
CATEGORIES:Jimmy Jenkins Senior Center,Kingswood Community Center
END:VEVENT
BEGIN:VEVENT
DTSTART;TZID=America/New_York:20260415T120000
DTEND;TZID=America/New_York:20260415T130000
DTSTAMP:20260419T125130
CREATED:20260331T175557Z
LAST-MODIFIED:20260331T183408Z
UID:6691-1776254400-1776258000@wrkgroup.org
SUMMARY:Nutrition Presentation - Chronic Disease
DESCRIPTION:
URL:https://wrkgroup.org/event/nutrition-presentation-chronic-disease/
LOCATION:Kingswood Community Center\, 2300 Bowers Street\, Wilmington\, DE\, 19802\, United States
CATEGORIES:Jimmy Jenkins Senior Center,Kingswood Community Center
END:VEVENT
END:VCALENDAR