BEGIN:VCALENDAR
VERSION:2.0
PRODID:-//WRK Group - ECPv6.15.20//NONSGML v1.0//EN
CALSCALE:GREGORIAN
METHOD:PUBLISH
X-ORIGINAL-URL:https://wrkgroup.org
X-WR-CALDESC:Events for WRK Group
REFRESH-INTERVAL;VALUE=DURATION:PT1H
X-Robots-Tag:noindex
X-PUBLISHED-TTL:PT1H
BEGIN:VTIMEZONE
TZID:America/New_York
BEGIN:DAYLIGHT
TZOFFSETFROM:-0500
TZOFFSETTO:-0400
TZNAME:EDT
DTSTART:20240310T070000
END:DAYLIGHT
BEGIN:STANDARD
TZOFFSETFROM:-0400
TZOFFSETTO:-0500
TZNAME:EST
DTSTART:20241103T060000
END:STANDARD
BEGIN:DAYLIGHT
TZOFFSETFROM:-0500
TZOFFSETTO:-0400
TZNAME:EDT
DTSTART:20250309T070000
END:DAYLIGHT
BEGIN:STANDARD
TZOFFSETFROM:-0400
TZOFFSETTO:-0500
TZNAME:EST
DTSTART:20251102T060000
END:STANDARD
BEGIN:DAYLIGHT
TZOFFSETFROM:-0500
TZOFFSETTO:-0400
TZNAME:EDT
DTSTART:20260308T070000
END:DAYLIGHT
BEGIN:STANDARD
TZOFFSETFROM:-0400
TZOFFSETTO:-0500
TZNAME:EST
DTSTART:20261101T060000
END:STANDARD
BEGIN:DAYLIGHT
TZOFFSETFROM:-0500
TZOFFSETTO:-0400
TZNAME:EDT
DTSTART:20270314T070000
END:DAYLIGHT
BEGIN:STANDARD
TZOFFSETFROM:-0400
TZOFFSETTO:-0500
TZNAME:EST
DTSTART:20271107T060000
END:STANDARD
END:VTIMEZONE
BEGIN:VEVENT
DTSTART;TZID=America/New_York:20260224T170000
DTEND;TZID=America/New_York:20260224T190000
DTSTAMP:20260419T143045
CREATED:20260217T160042Z
LAST-MODIFIED:20260223T173620Z
UID:6606-1771952400-1771959600@wrkgroup.org
SUMMARY:Kingswood Early Learning Academy Open House
DESCRIPTION:Free open house for Wilmington\, DE families Feb 24\, 5:30–7PM. Tour Kingswood’s new academy & learn how to enroll.\n\n\n\nChoosing where your child begins their educational journey matters. \nAt Kingswood\, we’ve been part of the Wilmington community for generations. And now\, we’re strengthening our Early Learning Academy with the addition of a Montessori curriculum designed to support independence\, confidence\, and kindergarten readiness. \nFor the past four consecutive years\, our students have achieved Kindergarten Readiness a reflection of the strong academic foundation our educators provide every day. \nAnd in September 2026\, our Early Learning Academy will transition into a new building\, expanding the environment where our children learn and grow. \nWe’re inviting both current Kingswood families and families across Wilmington to join us for a free Open House and see what this next chapter looks like. \n📅 Tuesday\, February 24\n⏰ 5:30 PM – 7:00 PM\n📍 Kingswood Community Center\n2300 Bowers Street\, Wilmington\, DE 19802 \nWhat You’ll Experience\n• Learn about our Montessori approach and how it builds independence\n• Meet the educators serving our community\n• Ask questions about kindergarten readiness and daily learning\n• Get clear enrollment information and next steps\n• Enjoy food and prizes for attending families \nOur Early Learning Academy focuses on developing the whole child academically\, socially\, and emotionally in a nurturing environment rooted right here in Wilmington. \nWhether you’re already part of the Kingswood family or exploring options for the first time\, we welcome you. \nWe are enrolling now for current openings and for September 2026 as we prepare for our transition into the new building. \nSpace is limited\, and we encourage families to begin the process early. \n👉 Preview the new building where our Early Learning Academy will be located in September 2026:\n \nWe look forward to welcoming you and your family.
URL:https://wrkgroup.org/event/kingswood-early-learning-academy-open-house/
CATEGORIES:Early Learning Academy,Kingswood Community Center
END:VEVENT
BEGIN:VEVENT
DTSTART;TZID=America/New_York:20251209T173000
DTEND;TZID=America/New_York:20251209T190000
DTSTAMP:20260419T143045
CREATED:20250103T155935Z
LAST-MODIFIED:20250729T195433Z
UID:4657-1765301400-1765306800@wrkgroup.org
SUMMARY:Parent Council Meeting
DESCRIPTION:Parent Council Meeting at Kingswood Community Center is open to past\, current\, and perspective ELA parents!
URL:https://wrkgroup.org/event/parent-council-meeting-11/
LOCATION:Kingswood Community Center\, 2300 Bowers Street\, Wilmington\, DE\, 19802\, United States
CATEGORIES:Early Learning Academy
END:VEVENT
BEGIN:VEVENT
DTSTART;TZID=America/New_York:20251119T173000
DTEND;TZID=America/New_York:20251119T190000
DTSTAMP:20260419T143045
CREATED:20251106T193720Z
LAST-MODIFIED:20251106T200932Z
UID:6565-1763573400-1763578800@wrkgroup.org
SUMMARY:Right to Know Workshop
DESCRIPTION:Join us for an engaging evening focused on legal education and empowerment. Partners from Community Legal Aid Society\, Inc. (CLASI) and Delaware Volunteer Legal Services (DVLS) will share how to access free and affordable legal resources available to our community. \nWe’ll also welcome representatives from the Delaware Law Related Education Center (DELREC)\, who will lead an interactive discussion about constitutional rights and how they apply to our everyday lives. \nEnjoy dinner\, conversation\, and connection as we come together to learn\, share\, and build stronger community awareness around legal rights and access to justice. \n\n\n\n\n\n\nHighlights: \n\nPresentations from CLASI\, DVLS\, and DELREC\nPractical guidance on using local legal services\nCommunity Q&A session\nDinner provided\n\nRSVP for a night of community\, fun\, and learning! \n\nContact Delaney Duricek for questions or concerns: 302-764-9022 EXT. 303
URL:https://wrkgroup.org/event/right-to-know-workshop/
LOCATION:Kingswood Community Center\, 2300 Bowers Street\, Wilmington\, DE\, 19802\, United States
CATEGORIES:Kingswood Community Center
END:VEVENT
BEGIN:VEVENT
DTSTART;TZID=America/New_York:20251118T173000
DTEND;TZID=America/New_York:20251118T190000
DTSTAMP:20260419T143045
CREATED:20250103T155657Z
LAST-MODIFIED:20250729T195433Z
UID:4653-1763487000-1763492400@wrkgroup.org
SUMMARY:Parent Council Meeting
DESCRIPTION:Parent Council Meeting at Kingswood Community Center is open to past\, current\, and perspective ELA parents!
URL:https://wrkgroup.org/event/parent-council-meeting-10/
LOCATION:Kingswood Community Center\, 2300 Bowers Street\, Wilmington\, DE\, 19802\, United States
CATEGORIES:Early Learning Academy
END:VEVENT
BEGIN:VEVENT
DTSTART;TZID=America/New_York:20251115T110000
DTEND;TZID=America/New_York:20251115T140000
DTSTAMP:20260419T143045
CREATED:20250103T155601Z
LAST-MODIFIED:20251006T175640Z
UID:4651-1763204400-1763215200@wrkgroup.org
SUMMARY:Community Bingo Luncheon
DESCRIPTION:
URL:https://wrkgroup.org/event/community-bingo-luncheon-3/
LOCATION:Kingswood Community Center\, 2300 Bowers Street\, Wilmington\, DE\, 19802\, United States
CATEGORIES:Kingswood Community Center
END:VEVENT
BEGIN:VEVENT
DTSTART;TZID=America/New_York:20251021T173000
DTEND;TZID=America/New_York:20251021T190000
DTSTAMP:20260419T143045
CREATED:20250103T155130Z
LAST-MODIFIED:20250729T195433Z
UID:4647-1761067800-1761073200@wrkgroup.org
SUMMARY:Parent Council Meeting
DESCRIPTION:Parent Council Meeting at Kingswood Community Center is open to past\, current\, and perspective ELA parents!
URL:https://wrkgroup.org/event/parent-council-meeting-9/
LOCATION:Kingswood Community Center\, 2300 Bowers Street\, Wilmington\, DE\, 19802\, United States
CATEGORIES:Early Learning Academy
END:VEVENT
BEGIN:VEVENT
DTSTART;TZID=America/New_York:20251020T130000
DTEND;TZID=America/New_York:20251020T150000
DTSTAMP:20260419T143045
CREATED:20251002T132338Z
LAST-MODIFIED:20251002T132338Z
UID:6431-1760965200-1760972400@wrkgroup.org
SUMMARY:GED Information Session
DESCRIPTION:Kingswood Community Center and the Department of Labor are offering a new GED program. Classes begin on November 10. The first testing day for Kingswood learners is October 27 from 12:00 to 3:00 PM. \nBefore testing\, we will hold an information session. At this session\, you will: \n\n\nLearn where and when the classes will take place. \n\n\nHear details about the first test. \n\n\nSee how to use our new GED Computer Lab to study. \n\n\nMeet the Department of Labor Coordinator. \n\n\nMeet Kingswood’s Employment Specialist\, who will help guide you. \n\n\nThis program is here to help you earn your GED and prepare for new job and career opportunities.
URL:https://wrkgroup.org/event/ged-information-session/
LOCATION:Kingswood Community Center\, 2300 Bowers Street\, Wilmington\, DE\, 19802\, United States
CATEGORIES:EMPOWER
END:VEVENT
END:VCALENDAR