BEGIN:VCALENDAR
VERSION:2.0
PRODID:-//WRK Group - ECPv6.15.20//NONSGML v1.0//EN
CALSCALE:GREGORIAN
METHOD:PUBLISH
X-ORIGINAL-URL:https://wrkgroup.org
X-WR-CALDESC:Events for WRK Group
REFRESH-INTERVAL;VALUE=DURATION:PT1H
X-Robots-Tag:noindex
X-PUBLISHED-TTL:PT1H
BEGIN:VTIMEZONE
TZID:America/New_York
BEGIN:DAYLIGHT
TZOFFSETFROM:-0500
TZOFFSETTO:-0400
TZNAME:EDT
DTSTART:20240310T070000
END:DAYLIGHT
BEGIN:STANDARD
TZOFFSETFROM:-0400
TZOFFSETTO:-0500
TZNAME:EST
DTSTART:20241103T060000
END:STANDARD
BEGIN:DAYLIGHT
TZOFFSETFROM:-0500
TZOFFSETTO:-0400
TZNAME:EDT
DTSTART:20250309T070000
END:DAYLIGHT
BEGIN:STANDARD
TZOFFSETFROM:-0400
TZOFFSETTO:-0500
TZNAME:EST
DTSTART:20251102T060000
END:STANDARD
BEGIN:DAYLIGHT
TZOFFSETFROM:-0500
TZOFFSETTO:-0400
TZNAME:EDT
DTSTART:20260308T070000
END:DAYLIGHT
BEGIN:STANDARD
TZOFFSETFROM:-0400
TZOFFSETTO:-0500
TZNAME:EST
DTSTART:20261101T060000
END:STANDARD
BEGIN:DAYLIGHT
TZOFFSETFROM:-0500
TZOFFSETTO:-0400
TZNAME:EDT
DTSTART:20270314T070000
END:DAYLIGHT
BEGIN:STANDARD
TZOFFSETFROM:-0400
TZOFFSETTO:-0500
TZNAME:EST
DTSTART:20271107T060000
END:STANDARD
END:VTIMEZONE
BEGIN:VEVENT
DTSTART;TZID=America/New_York:20260415T180000
DTEND;TZID=America/New_York:20260415T190000
DTSTAMP:20260419T125015
CREATED:20260331T175657Z
LAST-MODIFIED:20260331T182825Z
UID:6711-1776276000-1776279600@wrkgroup.org
SUMMARY:Warehouse Wednesday
DESCRIPTION:
URL:https://wrkgroup.org/event/warehouse-wednesday-3/
LOCATION:The Warehouse\, 1121 Thatcher Street\, Wilmington\, DE\, 19802\, United States
CATEGORIES:General Members,The Warehouse
END:VEVENT
BEGIN:VEVENT
DTSTART;TZID=America/New_York:20260414T173000
DTEND;TZID=America/New_York:20260414T190000
DTSTAMP:20260419T125015
CREATED:20260331T175543Z
LAST-MODIFIED:20260331T182943Z
UID:6688-1776187800-1776193200@wrkgroup.org
SUMMARY:Tasty Tuesday w Wilmington Junior League
DESCRIPTION:
URL:https://wrkgroup.org/event/tasty-tuesday-w-wilmington-junior-league/
LOCATION:The Warehouse\, 1121 Thatcher Street\, Wilmington\, DE\, 19802\, United States
CATEGORIES:General Members,Recreation,The Warehouse
END:VEVENT
BEGIN:VEVENT
DTSTART;VALUE=DATE:20260410
DTEND;VALUE=DATE:20260411
DTSTAMP:20260419T125015
CREATED:20260331T175542Z
LAST-MODIFIED:20260331T183602Z
UID:6685-1775779200-1775865599@wrkgroup.org
SUMMARY:Spring Break: Mental Rejuvenation (Health Pillar)
DESCRIPTION:
URL:https://wrkgroup.org/event/spring-break-mental-rejuvenation-health-pillar/
LOCATION:The Warehouse\, 1121 Thatcher Street\, Wilmington\, DE\, 19802\, United States
CATEGORIES:General Members,The Warehouse
END:VEVENT
BEGIN:VEVENT
DTSTART;TZID=America/New_York:20260409T090000
DTEND;TZID=America/New_York:20260409T120000
DTSTAMP:20260419T125015
CREATED:20260331T191119Z
LAST-MODIFIED:20260331T191241Z
UID:6821-1775725200-1775736000@wrkgroup.org
SUMMARY:PowerHer Tools: Women in Construction & Skilled Trades Panel
DESCRIPTION:The Teen Warehouse and Big Brothers Big Sisters of Delaware are teaming up for an inspiring morning through the Beyond School Walls (BSW) program. PowerHer Tools brings together an all-women panel of professionals working in construction and the skilled trades to share their stories\, career journeys\, and advice with young women ready to explore what’s possible.\nTeens will hear firsthand from women who are building real careers in fields that have traditionally been male-dominated — and discover the many pathways available to them\, from trade education programs to mentorship and workforce development opportunities.\nThis event is free and open to young women looking to learn\, connect\, and get inspired. \n[Register on Eventbrite →]
URL:https://wrkgroup.org/event/powerher-tools-women-in-construction-skilled-trades-panel/
LOCATION:The Warehouse\, 1121 Thatcher Street\, Wilmington\, DE\, 19802\, United States
CATEGORIES:Careers,The Warehouse
ATTACH;FMTTYPE=image/png:https://wrkgroup.org/wp-content/uploads/2026/03/Eventbrite-FB-Banner-ONLY.png
END:VEVENT
BEGIN:VEVENT
DTSTART;VALUE=DATE:20260409
DTEND;VALUE=DATE:20260410
DTSTAMP:20260419T125015
CREATED:20260331T175528Z
LAST-MODIFIED:20260331T183602Z
UID:6683-1775692800-1775779199@wrkgroup.org
SUMMARY:Spring Break: Strive Sports Challenge (Recreation Pillar)
DESCRIPTION:
URL:https://wrkgroup.org/event/spring-break-strive-sports-challenge-recreation-pillar/
LOCATION:The Warehouse\, 1121 Thatcher Street\, Wilmington\, DE\, 19802\, United States
CATEGORIES:General Members,The Warehouse
END:VEVENT
BEGIN:VEVENT
DTSTART;TZID=America/New_York:20260408T180000
DTEND;TZID=America/New_York:20260408T190000
DTSTAMP:20260419T125015
CREATED:20260331T175657Z
LAST-MODIFIED:20260331T182825Z
UID:6710-1775671200-1775674800@wrkgroup.org
SUMMARY:Warehouse Wednesday
DESCRIPTION:
URL:https://wrkgroup.org/event/warehouse-wednesday-2/
LOCATION:The Warehouse\, 1121 Thatcher Street\, Wilmington\, DE\, 19802\, United States
CATEGORIES:General Members,The Warehouse
END:VEVENT
BEGIN:VEVENT
DTSTART;VALUE=DATE:20260408
DTEND;VALUE=DATE:20260409
DTSTAMP:20260419T125015
CREATED:20260331T175527Z
LAST-MODIFIED:20260331T183602Z
UID:6681-1775606400-1775692799@wrkgroup.org
SUMMARY:Spring Break: Navigating Education HS to College (Education Pillar)
DESCRIPTION:
URL:https://wrkgroup.org/event/spring-break-navigating-education-hs-to-college-education-pillar/
LOCATION:The Warehouse\, 1121 Thatcher Street\, Wilmington\, DE\, 19802\, United States
CATEGORIES:General Members,The Warehouse
END:VEVENT
BEGIN:VEVENT
DTSTART;VALUE=DATE:20260407
DTEND;VALUE=DATE:20260408
DTSTAMP:20260419T125015
CREATED:20260331T175513Z
LAST-MODIFIED:20260331T183603Z
UID:6679-1775520000-1775606399@wrkgroup.org
SUMMARY:Spring Break: Art Pop-up Experience (Art Pillar)
DESCRIPTION:
URL:https://wrkgroup.org/event/spring-break-art-pop-up-experience-art-pillar/
LOCATION:The Warehouse\, 1121 Thatcher Street\, Wilmington\, DE\, 19802\, United States
CATEGORIES:General Members,The Warehouse
END:VEVENT
BEGIN:VEVENT
DTSTART;VALUE=DATE:20260406
DTEND;VALUE=DATE:20260407
DTSTAMP:20260419T125015
CREATED:20260331T175511Z
LAST-MODIFIED:20260331T183603Z
UID:6675-1775433600-1775519999@wrkgroup.org
SUMMARY:Spring Break: Career Fair (Employment Pillar)
DESCRIPTION:
URL:https://wrkgroup.org/event/spring-break-career-fair-employment-pillar/
LOCATION:The Warehouse\, 1121 Thatcher Street\, Wilmington\, DE\, 19802\, United States
CATEGORIES:General Members,The Warehouse
END:VEVENT
BEGIN:VEVENT
DTSTART;TZID=America/New_York:20260401T180000
DTEND;TZID=America/New_York:20260401T190000
DTSTAMP:20260419T125015
CREATED:20260331T175643Z
LAST-MODIFIED:20260331T182825Z
UID:6709-1775066400-1775070000@wrkgroup.org
SUMMARY:Warehouse Wednesday
DESCRIPTION:
URL:https://wrkgroup.org/event/warehouse-wednesday/
LOCATION:The Warehouse\, 1121 Thatcher Street\, Wilmington\, DE\, 19802\, United States
CATEGORIES:General Members,The Warehouse
END:VEVENT
BEGIN:VEVENT
DTSTART;TZID=America/New_York:20260328T090000
DTEND;TZID=America/New_York:20260328T120000
DTSTAMP:20260419T125015
CREATED:20260318T205845Z
LAST-MODIFIED:20260318T205856Z
UID:6634-1774688400-1774699200@wrkgroup.org
SUMMARY:NIL & Financial Literacy: Panel Discussion & Workshop
DESCRIPTION:Join Big Brothers Big Sisters of Delaware’s Athlete Mentoring Program (AMP) and The Teen Warehouse for a conversation about Name\, Image & Likeness (NIL)\, financial literacy\, and the business side of sports — built to equip student-athletes and their families with knowledge for the future. \nFeatured speaker Ariel Smith\, Financial Literacy Educator & Speaker\, will lead a workshop on financial skills for young athletes\, covering saving\, budgeting\, smart spending\, and age-appropriate NIL opportunities. \nStay for a panel discussion with professionals bringing real-world experience from athletics and sports business. Topics include career paths after sports\, legal insight on NIL agreements and athlete protection\, athlete development and academic leadership\, NIL representation and branding\, and preparing for professional opportunities. \n\nSaturday\, March 28\, 2026 | 9:00 AM – 12:00 PM The Teen Warehouse | 1121 Thatcher Street\, Wilmington\, DE \n\n\n\n\n\n\n\nSign up on Eventbrite to reserve your spot.
URL:https://wrkgroup.org/event/nilnil-financial-literacy-panel-discussion-workshop/
LOCATION:The Warehouse\, 1121 Thatcher Street\, Wilmington\, DE\, 19802\, United States
CATEGORIES:The Warehouse
END:VEVENT
BEGIN:VEVENT
DTSTART;TZID=America/New_York:20251218T160000
DTEND;TZID=America/New_York:20251218T183000
DTSTAMP:20260419T125015
CREATED:20251007T202747Z
LAST-MODIFIED:20251007T202747Z
UID:6446-1766073600-1766082600@wrkgroup.org
SUMMARY:T-Shirt Tech
DESCRIPTION:Unleash your creativity and design your own custom t-shirt! Join us for a hands-on workshop where RISE youth will explore different design techniques like fabric paint\, sublimation\, and heat transfer vinyl (HTV). Whether you’re a budding fashion designer or just love to create\, this session is all about self-expression\, style\, and fun. All materials will be provided — just bring your imagination! \nDon’t miss out — your future favorite tee is waiting to be made!
URL:https://wrkgroup.org/event/t-shirt-tech-december-18/
LOCATION:The Warehouse\, 1121 Thatcher Street\, Wilmington\, DE\, 19802\, United States
CATEGORIES:Creative Arts
END:VEVENT
BEGIN:VEVENT
DTSTART;TZID=America/New_York:20251204T160000
DTEND;TZID=America/New_York:20251204T183000
DTSTAMP:20260419T125015
CREATED:20251007T202635Z
LAST-MODIFIED:20251007T202635Z
UID:6444-1764864000-1764873000@wrkgroup.org
SUMMARY:T-Shirt Tech
DESCRIPTION:Unleash your creativity and design your own custom t-shirt! Join us for a hands-on workshop where RISE youth will explore different design techniques like fabric paint\, sublimation\, and heat transfer vinyl (HTV). Whether you’re a budding fashion designer or just love to create\, this session is all about self-expression\, style\, and fun. All materials will be provided — just bring your imagination! \nDon’t miss out — your future favorite tee is waiting to be made!
URL:https://wrkgroup.org/event/t-shirt-tech-december-4/
LOCATION:The Warehouse\, 1121 Thatcher Street\, Wilmington\, DE\, 19802\, United States
CATEGORIES:Creative Arts
END:VEVENT
BEGIN:VEVENT
DTSTART;TZID=America/New_York:20251113T160000
DTEND;TZID=America/New_York:20251113T183000
DTSTAMP:20260419T125015
CREATED:20251007T202440Z
LAST-MODIFIED:20251007T202440Z
UID:6442-1763049600-1763058600@wrkgroup.org
SUMMARY:T-Shirt Tech
DESCRIPTION:Unleash your creativity and design your own custom t-shirt! Join us for a hands-on workshop where RISE youth will explore different design techniques like fabric paint\, sublimation\, and heat transfer vinyl (HTV). Whether you’re a budding fashion designer or just love to create\, this session is all about self-expression\, style\, and fun. All materials will be provided — just bring your imagination! \nDon’t miss out — your future favorite tee is waiting to be made!
URL:https://wrkgroup.org/event/t-shirt-tech-november-13/
LOCATION:The Warehouse\, 1121 Thatcher Street\, Wilmington\, DE\, 19802\, United States
CATEGORIES:Creative Arts
END:VEVENT
BEGIN:VEVENT
DTSTART;TZID=America/New_York:20251030T160000
DTEND;TZID=America/New_York:20251030T183000
DTSTAMP:20260419T125015
CREATED:20251007T202336Z
LAST-MODIFIED:20251007T202336Z
UID:6440-1761840000-1761849000@wrkgroup.org
SUMMARY:T-Shirt Tech
DESCRIPTION:Unleash your creativity and design your own custom t-shirt! Join us for a hands-on workshop where RISE youth will explore different design techniques like fabric paint\, sublimation\, and heat transfer vinyl (HTV). Whether you’re a budding fashion designer or just love to create\, this session is all about self-expression\, style\, and fun. All materials will be provided — just bring your imagination! \nDon’t miss out — your future favorite tee is waiting to be made!
URL:https://wrkgroup.org/event/t-shirt-tech-october-30/
LOCATION:The Warehouse\, 1121 Thatcher Street\, Wilmington\, DE\, 19802\, United States
CATEGORIES:Creative Arts
END:VEVENT
BEGIN:VEVENT
DTSTART;TZID=America/New_York:20251023T160000
DTEND;TZID=America/New_York:20251023T190000
DTSTAMP:20260419T125015
CREATED:20251007T204342Z
LAST-MODIFIED:20251007T204342Z
UID:6454-1761235200-1761246000@wrkgroup.org
SUMMARY:Community Health Education Series w/Nemours
DESCRIPTION:
URL:https://wrkgroup.org/event/community-health-education-series-w-nemours-2/
LOCATION:The Warehouse\, 1121 Thatcher Street\, Wilmington\, DE\, 19802\, United States
CATEGORIES:Health
END:VEVENT
END:VCALENDAR