BEGIN:VCALENDAR
VERSION:2.0
PRODID:-//WRK Group - ECPv6.15.20//NONSGML v1.0//EN
CALSCALE:GREGORIAN
METHOD:PUBLISH
X-WR-CALNAME:WRK Group
X-ORIGINAL-URL:https://wrkgroup.org
X-WR-CALDESC:Events for WRK Group
REFRESH-INTERVAL;VALUE=DURATION:PT1H
X-Robots-Tag:noindex
X-PUBLISHED-TTL:PT1H
BEGIN:VTIMEZONE
TZID:America/New_York
BEGIN:DAYLIGHT
TZOFFSETFROM:-0500
TZOFFSETTO:-0400
TZNAME:EDT
DTSTART:20240310T070000
END:DAYLIGHT
BEGIN:STANDARD
TZOFFSETFROM:-0400
TZOFFSETTO:-0500
TZNAME:EST
DTSTART:20241103T060000
END:STANDARD
BEGIN:DAYLIGHT
TZOFFSETFROM:-0500
TZOFFSETTO:-0400
TZNAME:EDT
DTSTART:20250309T070000
END:DAYLIGHT
BEGIN:STANDARD
TZOFFSETFROM:-0400
TZOFFSETTO:-0500
TZNAME:EST
DTSTART:20251102T060000
END:STANDARD
BEGIN:DAYLIGHT
TZOFFSETFROM:-0500
TZOFFSETTO:-0400
TZNAME:EDT
DTSTART:20260308T070000
END:DAYLIGHT
BEGIN:STANDARD
TZOFFSETFROM:-0400
TZOFFSETTO:-0500
TZNAME:EST
DTSTART:20261101T060000
END:STANDARD
BEGIN:DAYLIGHT
TZOFFSETFROM:-0500
TZOFFSETTO:-0400
TZNAME:EDT
DTSTART:20270314T070000
END:DAYLIGHT
BEGIN:STANDARD
TZOFFSETFROM:-0400
TZOFFSETTO:-0500
TZNAME:EST
DTSTART:20271107T060000
END:STANDARD
END:VTIMEZONE
BEGIN:VEVENT
DTSTART;TZID=America/New_York:20260328T090000
DTEND;TZID=America/New_York:20260328T120000
DTSTAMP:20260419T142538
CREATED:20260318T205845Z
LAST-MODIFIED:20260318T205856Z
UID:6634-1774688400-1774699200@wrkgroup.org
SUMMARY:NIL & Financial Literacy: Panel Discussion & Workshop
DESCRIPTION:Join Big Brothers Big Sisters of Delaware’s Athlete Mentoring Program (AMP) and The Teen Warehouse for a conversation about Name\, Image & Likeness (NIL)\, financial literacy\, and the business side of sports — built to equip student-athletes and their families with knowledge for the future. \nFeatured speaker Ariel Smith\, Financial Literacy Educator & Speaker\, will lead a workshop on financial skills for young athletes\, covering saving\, budgeting\, smart spending\, and age-appropriate NIL opportunities. \nStay for a panel discussion with professionals bringing real-world experience from athletics and sports business. Topics include career paths after sports\, legal insight on NIL agreements and athlete protection\, athlete development and academic leadership\, NIL representation and branding\, and preparing for professional opportunities. \n\nSaturday\, March 28\, 2026 | 9:00 AM – 12:00 PM The Teen Warehouse | 1121 Thatcher Street\, Wilmington\, DE \n\n\n\n\n\n\n\nSign up on Eventbrite to reserve your spot.
URL:https://wrkgroup.org/event/nilnil-financial-literacy-panel-discussion-workshop/
LOCATION:The Warehouse\, 1121 Thatcher Street\, Wilmington\, DE\, 19802\, United States
CATEGORIES:The Warehouse
END:VEVENT
BEGIN:VEVENT
DTSTART;TZID=America/New_York:20251218T160000
DTEND;TZID=America/New_York:20251218T183000
DTSTAMP:20260419T142538
CREATED:20251007T202747Z
LAST-MODIFIED:20251007T202747Z
UID:6446-1766073600-1766082600@wrkgroup.org
SUMMARY:T-Shirt Tech
DESCRIPTION:Unleash your creativity and design your own custom t-shirt! Join us for a hands-on workshop where RISE youth will explore different design techniques like fabric paint\, sublimation\, and heat transfer vinyl (HTV). Whether you’re a budding fashion designer or just love to create\, this session is all about self-expression\, style\, and fun. All materials will be provided — just bring your imagination! \nDon’t miss out — your future favorite tee is waiting to be made!
URL:https://wrkgroup.org/event/t-shirt-tech-december-18/
LOCATION:The Warehouse\, 1121 Thatcher Street\, Wilmington\, DE\, 19802\, United States
CATEGORIES:Creative Arts
END:VEVENT
BEGIN:VEVENT
DTSTART;TZID=America/New_York:20251204T160000
DTEND;TZID=America/New_York:20251204T183000
DTSTAMP:20260419T142538
CREATED:20251007T202635Z
LAST-MODIFIED:20251007T202635Z
UID:6444-1764864000-1764873000@wrkgroup.org
SUMMARY:T-Shirt Tech
DESCRIPTION:Unleash your creativity and design your own custom t-shirt! Join us for a hands-on workshop where RISE youth will explore different design techniques like fabric paint\, sublimation\, and heat transfer vinyl (HTV). Whether you’re a budding fashion designer or just love to create\, this session is all about self-expression\, style\, and fun. All materials will be provided — just bring your imagination! \nDon’t miss out — your future favorite tee is waiting to be made!
URL:https://wrkgroup.org/event/t-shirt-tech-december-4/
LOCATION:The Warehouse\, 1121 Thatcher Street\, Wilmington\, DE\, 19802\, United States
CATEGORIES:Creative Arts
END:VEVENT
BEGIN:VEVENT
DTSTART;TZID=America/New_York:20251113T160000
DTEND;TZID=America/New_York:20251113T183000
DTSTAMP:20260419T142538
CREATED:20251007T202440Z
LAST-MODIFIED:20251007T202440Z
UID:6442-1763049600-1763058600@wrkgroup.org
SUMMARY:T-Shirt Tech
DESCRIPTION:Unleash your creativity and design your own custom t-shirt! Join us for a hands-on workshop where RISE youth will explore different design techniques like fabric paint\, sublimation\, and heat transfer vinyl (HTV). Whether you’re a budding fashion designer or just love to create\, this session is all about self-expression\, style\, and fun. All materials will be provided — just bring your imagination! \nDon’t miss out — your future favorite tee is waiting to be made!
URL:https://wrkgroup.org/event/t-shirt-tech-november-13/
LOCATION:The Warehouse\, 1121 Thatcher Street\, Wilmington\, DE\, 19802\, United States
CATEGORIES:Creative Arts
END:VEVENT
BEGIN:VEVENT
DTSTART;TZID=America/New_York:20251030T160000
DTEND;TZID=America/New_York:20251030T183000
DTSTAMP:20260419T142538
CREATED:20251007T202336Z
LAST-MODIFIED:20251007T202336Z
UID:6440-1761840000-1761849000@wrkgroup.org
SUMMARY:T-Shirt Tech
DESCRIPTION:Unleash your creativity and design your own custom t-shirt! Join us for a hands-on workshop where RISE youth will explore different design techniques like fabric paint\, sublimation\, and heat transfer vinyl (HTV). Whether you’re a budding fashion designer or just love to create\, this session is all about self-expression\, style\, and fun. All materials will be provided — just bring your imagination! \nDon’t miss out — your future favorite tee is waiting to be made!
URL:https://wrkgroup.org/event/t-shirt-tech-october-30/
LOCATION:The Warehouse\, 1121 Thatcher Street\, Wilmington\, DE\, 19802\, United States
CATEGORIES:Creative Arts
END:VEVENT
BEGIN:VEVENT
DTSTART;TZID=America/New_York:20251023T160000
DTEND;TZID=America/New_York:20251023T190000
DTSTAMP:20260419T142538
CREATED:20251007T204342Z
LAST-MODIFIED:20251007T204342Z
UID:6454-1761235200-1761246000@wrkgroup.org
SUMMARY:Community Health Education Series w/Nemours
DESCRIPTION:
URL:https://wrkgroup.org/event/community-health-education-series-w-nemours-2/
LOCATION:The Warehouse\, 1121 Thatcher Street\, Wilmington\, DE\, 19802\, United States
CATEGORIES:Health
END:VEVENT
END:VCALENDAR