BEGIN:VCALENDAR
VERSION:2.0
PRODID:-//WRK Group - ECPv6.15.20//NONSGML v1.0//EN
CALSCALE:GREGORIAN
METHOD:PUBLISH
X-WR-CALNAME:WRK Group
X-ORIGINAL-URL:https://wrkgroup.org
X-WR-CALDESC:Events for WRK Group
REFRESH-INTERVAL;VALUE=DURATION:PT1H
X-Robots-Tag:noindex
X-PUBLISHED-TTL:PT1H
BEGIN:VTIMEZONE
TZID:America/New_York
BEGIN:DAYLIGHT
TZOFFSETFROM:-0500
TZOFFSETTO:-0400
TZNAME:EDT
DTSTART:20250309T070000
END:DAYLIGHT
BEGIN:STANDARD
TZOFFSETFROM:-0400
TZOFFSETTO:-0500
TZNAME:EST
DTSTART:20251102T060000
END:STANDARD
BEGIN:DAYLIGHT
TZOFFSETFROM:-0500
TZOFFSETTO:-0400
TZNAME:EDT
DTSTART:20260308T070000
END:DAYLIGHT
BEGIN:STANDARD
TZOFFSETFROM:-0400
TZOFFSETTO:-0500
TZNAME:EST
DTSTART:20261101T060000
END:STANDARD
BEGIN:DAYLIGHT
TZOFFSETFROM:-0500
TZOFFSETTO:-0400
TZNAME:EDT
DTSTART:20270314T070000
END:DAYLIGHT
BEGIN:STANDARD
TZOFFSETFROM:-0400
TZOFFSETTO:-0500
TZNAME:EST
DTSTART:20271107T060000
END:STANDARD
END:VTIMEZONE
BEGIN:VEVENT
DTSTART;TZID=America/New_York:20260415T180000
DTEND;TZID=America/New_York:20260415T190000
DTSTAMP:20260419T223742
CREATED:20260331T175657Z
LAST-MODIFIED:20260331T182825Z
UID:6711-1776276000-1776279600@wrkgroup.org
SUMMARY:Warehouse Wednesday
DESCRIPTION:
URL:https://wrkgroup.org/event/warehouse-wednesday-3/
LOCATION:The Warehouse\, 1121 Thatcher Street\, Wilmington\, DE\, 19802\, United States
CATEGORIES:General Members,The Warehouse
END:VEVENT
BEGIN:VEVENT
DTSTART;TZID=America/New_York:20260422T180000
DTEND;TZID=America/New_York:20260422T190000
DTSTAMP:20260419T223742
CREATED:20260331T175658Z
LAST-MODIFIED:20260331T182825Z
UID:6712-1776880800-1776884400@wrkgroup.org
SUMMARY:Warehouse Wednesday
DESCRIPTION:
URL:https://wrkgroup.org/event/warehouse-wednesday-4/
LOCATION:The Warehouse\, 1121 Thatcher Street\, Wilmington\, DE\, 19802\, United States
CATEGORIES:General Members,The Warehouse
END:VEVENT
BEGIN:VEVENT
DTSTART;TZID=America/New_York:20260425T100000
DTEND;TZID=America/New_York:20260425T170000
DTSTAMP:20260419T223742
CREATED:20260331T175628Z
LAST-MODIFIED:20260331T183707Z
UID:6704-1777111200-1777136400@wrkgroup.org
SUMMARY:Flag Football
DESCRIPTION:
URL:https://wrkgroup.org/event/flag-football/
LOCATION:DE
CATEGORIES:General Members,Recreation,The Warehouse
END:VEVENT
BEGIN:VEVENT
DTSTART;TZID=America/New_York:20260429T180000
DTEND;TZID=America/New_York:20260429T190000
DTSTAMP:20260419T223742
CREATED:20260331T175658Z
LAST-MODIFIED:20260331T182825Z
UID:6713-1777485600-1777489200@wrkgroup.org
SUMMARY:Warehouse Wednesday
DESCRIPTION:
URL:https://wrkgroup.org/event/warehouse-wednesday-5/
LOCATION:The Warehouse\, 1121 Thatcher Street\, Wilmington\, DE\, 19802\, United States
CATEGORIES:General Members,The Warehouse
END:VEVENT
BEGIN:VEVENT
DTSTART;TZID=America/New_York:20260506T180000
DTEND;TZID=America/New_York:20260506T190000
DTSTAMP:20260419T223742
CREATED:20260331T175658Z
LAST-MODIFIED:20260331T182631Z
UID:6714-1778090400-1778094000@wrkgroup.org
SUMMARY:Warehouse Wednesday
DESCRIPTION:
URL:https://wrkgroup.org/event/warehouse-wednesday-6/
LOCATION:The Warehouse\, 1121 Thatcher Street\, Wilmington\, DE\, 19802\, United States
CATEGORIES:General Members,The Warehouse
END:VEVENT
BEGIN:VEVENT
DTSTART;TZID=America/New_York:20260513T180000
DTEND;TZID=America/New_York:20260513T190000
DTSTAMP:20260419T223742
CREATED:20260331T175712Z
LAST-MODIFIED:20260331T182631Z
UID:6715-1778695200-1778698800@wrkgroup.org
SUMMARY:Warehouse Wednesday
DESCRIPTION:
URL:https://wrkgroup.org/event/warehouse-wednesday-7/
LOCATION:The Warehouse\, 1121 Thatcher Street\, Wilmington\, DE\, 19802\, United States
CATEGORIES:General Members,The Warehouse
END:VEVENT
BEGIN:VEVENT
DTSTART;TZID=America/New_York:20260520T180000
DTEND;TZID=America/New_York:20260520T190000
DTSTAMP:20260419T223742
CREATED:20260331T175712Z
LAST-MODIFIED:20260331T182631Z
UID:6716-1779300000-1779303600@wrkgroup.org
SUMMARY:Warehouse Wednesday
DESCRIPTION:
URL:https://wrkgroup.org/event/warehouse-wednesday-8/
LOCATION:The Warehouse\, 1121 Thatcher Street\, Wilmington\, DE\, 19802\, United States
CATEGORIES:General Members,The Warehouse
END:VEVENT
BEGIN:VEVENT
DTSTART;TZID=America/New_York:20260527T180000
DTEND;TZID=America/New_York:20260527T190000
DTSTAMP:20260419T223742
CREATED:20260331T175713Z
LAST-MODIFIED:20260331T182630Z
UID:6717-1779904800-1779908400@wrkgroup.org
SUMMARY:Warehouse Wednesday
DESCRIPTION:
URL:https://wrkgroup.org/event/warehouse-wednesday-9/
LOCATION:The Warehouse\, 1121 Thatcher Street\, Wilmington\, DE\, 19802\, United States
CATEGORIES:General Members,The Warehouse
END:VEVENT
BEGIN:VEVENT
DTSTART;TZID=America/New_York:20260603T180000
DTEND;TZID=America/New_York:20260603T190000
DTSTAMP:20260419T223742
CREATED:20260331T175713Z
LAST-MODIFIED:20260331T182630Z
UID:6718-1780509600-1780513200@wrkgroup.org
SUMMARY:Warehouse Wednesday
DESCRIPTION:
URL:https://wrkgroup.org/event/warehouse-wednesday-10/
LOCATION:The Warehouse\, 1121 Thatcher Street\, Wilmington\, DE\, 19802\, United States
CATEGORIES:General Members,The Warehouse
END:VEVENT
BEGIN:VEVENT
DTSTART;TZID=America/New_York:20260610T180000
DTEND;TZID=America/New_York:20260610T190000
DTSTAMP:20260419T223742
CREATED:20260331T175713Z
LAST-MODIFIED:20260331T182630Z
UID:6719-1781114400-1781118000@wrkgroup.org
SUMMARY:Warehouse Wednesday
DESCRIPTION:
URL:https://wrkgroup.org/event/warehouse-wednesday-11/
LOCATION:The Warehouse\, 1121 Thatcher Street\, Wilmington\, DE\, 19802\, United States
CATEGORIES:General Members,The Warehouse
END:VEVENT
BEGIN:VEVENT
DTSTART;TZID=America/New_York:20260617T180000
DTEND;TZID=America/New_York:20260617T190000
DTSTAMP:20260419T223742
CREATED:20260331T175727Z
LAST-MODIFIED:20260331T182630Z
UID:6720-1781719200-1781722800@wrkgroup.org
SUMMARY:Warehouse Wednesday
DESCRIPTION:
URL:https://wrkgroup.org/event/warehouse-wednesday-12/
LOCATION:The Warehouse\, 1121 Thatcher Street\, Wilmington\, DE\, 19802\, United States
CATEGORIES:General Members,The Warehouse
END:VEVENT
BEGIN:VEVENT
DTSTART;TZID=America/New_York:20260624T180000
DTEND;TZID=America/New_York:20260624T190000
DTSTAMP:20260419T223742
CREATED:20260331T175727Z
LAST-MODIFIED:20260331T182630Z
UID:6721-1782324000-1782327600@wrkgroup.org
SUMMARY:Warehouse Wednesday
DESCRIPTION:
URL:https://wrkgroup.org/event/warehouse-wednesday-13/
LOCATION:The Warehouse\, 1121 Thatcher Street\, Wilmington\, DE\, 19802\, United States
CATEGORIES:General Members,The Warehouse
END:VEVENT
BEGIN:VEVENT
DTSTART;TZID=America/New_York:20260701T180000
DTEND;TZID=America/New_York:20260701T190000
DTSTAMP:20260419T223742
CREATED:20260331T175727Z
LAST-MODIFIED:20260331T182630Z
UID:6722-1782928800-1782932400@wrkgroup.org
SUMMARY:Warehouse Wednesday
DESCRIPTION:
URL:https://wrkgroup.org/event/warehouse-wednesday-14/
LOCATION:The Warehouse\, 1121 Thatcher Street\, Wilmington\, DE\, 19802\, United States
CATEGORIES:General Members,The Warehouse
END:VEVENT
BEGIN:VEVENT
DTSTART;TZID=America/New_York:20260708T180000
DTEND;TZID=America/New_York:20260708T190000
DTSTAMP:20260419T223742
CREATED:20260331T175728Z
LAST-MODIFIED:20260331T182630Z
UID:6723-1783533600-1783537200@wrkgroup.org
SUMMARY:Warehouse Wednesday
DESCRIPTION:
URL:https://wrkgroup.org/event/warehouse-wednesday-15/
LOCATION:The Warehouse\, 1121 Thatcher Street\, Wilmington\, DE\, 19802\, United States
CATEGORIES:General Members,The Warehouse
END:VEVENT
BEGIN:VEVENT
DTSTART;TZID=America/New_York:20260715T180000
DTEND;TZID=America/New_York:20260715T190000
DTSTAMP:20260419T223742
CREATED:20260331T175728Z
LAST-MODIFIED:20260331T182630Z
UID:6724-1784138400-1784142000@wrkgroup.org
SUMMARY:Warehouse Wednesday
DESCRIPTION:
URL:https://wrkgroup.org/event/warehouse-wednesday-16/
LOCATION:The Warehouse\, 1121 Thatcher Street\, Wilmington\, DE\, 19802\, United States
CATEGORIES:General Members,The Warehouse
END:VEVENT
BEGIN:VEVENT
DTSTART;TZID=America/New_York:20260722T180000
DTEND;TZID=America/New_York:20260722T190000
DTSTAMP:20260419T223742
CREATED:20260331T175742Z
LAST-MODIFIED:20260331T182630Z
UID:6725-1784743200-1784746800@wrkgroup.org
SUMMARY:Warehouse Wednesday
DESCRIPTION:
URL:https://wrkgroup.org/event/warehouse-wednesday-17/
LOCATION:The Warehouse\, 1121 Thatcher Street\, Wilmington\, DE\, 19802\, United States
CATEGORIES:General Members,The Warehouse
END:VEVENT
BEGIN:VEVENT
DTSTART;TZID=America/New_York:20260729T180000
DTEND;TZID=America/New_York:20260729T190000
DTSTAMP:20260419T223742
CREATED:20260331T175742Z
LAST-MODIFIED:20260331T182629Z
UID:6726-1785348000-1785351600@wrkgroup.org
SUMMARY:Warehouse Wednesday
DESCRIPTION:
URL:https://wrkgroup.org/event/warehouse-wednesday-18/
LOCATION:The Warehouse\, 1121 Thatcher Street\, Wilmington\, DE\, 19802\, United States
CATEGORIES:General Members,The Warehouse
END:VEVENT
END:VCALENDAR