BEGIN:VCALENDAR
VERSION:2.0
PRODID:-//WRK Group - ECPv6.15.20//NONSGML v1.0//EN
CALSCALE:GREGORIAN
METHOD:PUBLISH
X-ORIGINAL-URL:https://wrkgroup.org
X-WR-CALDESC:Events for WRK Group
REFRESH-INTERVAL;VALUE=DURATION:PT1H
X-Robots-Tag:noindex
X-PUBLISHED-TTL:PT1H
BEGIN:VTIMEZONE
TZID:America/New_York
BEGIN:DAYLIGHT
TZOFFSETFROM:-0500
TZOFFSETTO:-0400
TZNAME:EDT
DTSTART:20250309T070000
END:DAYLIGHT
BEGIN:STANDARD
TZOFFSETFROM:-0400
TZOFFSETTO:-0500
TZNAME:EST
DTSTART:20251102T060000
END:STANDARD
BEGIN:DAYLIGHT
TZOFFSETFROM:-0500
TZOFFSETTO:-0400
TZNAME:EDT
DTSTART:20260308T070000
END:DAYLIGHT
BEGIN:STANDARD
TZOFFSETFROM:-0400
TZOFFSETTO:-0500
TZNAME:EST
DTSTART:20261101T060000
END:STANDARD
BEGIN:DAYLIGHT
TZOFFSETFROM:-0500
TZOFFSETTO:-0400
TZNAME:EDT
DTSTART:20270314T070000
END:DAYLIGHT
BEGIN:STANDARD
TZOFFSETFROM:-0400
TZOFFSETTO:-0500
TZNAME:EST
DTSTART:20271107T060000
END:STANDARD
END:VTIMEZONE
BEGIN:VEVENT
DTSTART;TZID=America/New_York:20260421T100000
DTEND;TZID=America/New_York:20260421T111500
DTSTAMP:20260419T160538
CREATED:20260331T175612Z
LAST-MODIFIED:20260331T183407Z
UID:6697-1776765600-1776770100@wrkgroup.org
SUMMARY:Computer Class
DESCRIPTION:
URL:https://wrkgroup.org/event/computer-class/
LOCATION:Kingswood Community Center\, 2300 Bowers Street\, Wilmington\, DE\, 19802\, United States
CATEGORIES:Jimmy Jenkins Senior Center,Kingswood Community Center
END:VEVENT
BEGIN:VEVENT
DTSTART;TZID=America/New_York:20260421T100000
DTEND;TZID=America/New_York:20260421T113000
DTSTAMP:20260419T160538
CREATED:20260331T175613Z
LAST-MODIFIED:20260331T183407Z
UID:6698-1776765600-1776771000@wrkgroup.org
SUMMARY:Stage Bright Theatre Play Writing Workshop
DESCRIPTION:
URL:https://wrkgroup.org/event/stage-bright-theatre-play-writing-workshop-3/
LOCATION:Kingswood Community Center\, 2300 Bowers Street\, Wilmington\, DE\, 19802\, United States
CATEGORIES:Jimmy Jenkins Senior Center,Kingswood Community Center
END:VEVENT
END:VCALENDAR